Workbook

Sheet заказ
A1: № п/п | B1: наименование | C1: артикул | D1: цена опт | E1: кол-во | F1: сумма
A2: 1 | B2: =каталог!B10 -> Бутербродница "Колосок" | C2: =каталог!C10 -> НХП148 | D2: =каталог!F10 -> 679 | E2: =каталог!G10 -> 0 | F2: =E2*D2 -> 0
A3: 2 | B3: =каталог!B11 -> Бутербродница с салфеткой | C3: =каталог!C11 -> НХП148/с | D3: =каталог!F11 -> 694 | E3: =каталог!G11 -> 0 | F3: =E3*D3 -> 0
A4: 3 | B4: =каталог!B12 -> Бутербродница "Цветы" в упаковке | C4: =каталог!C12 -> НХП148/1 | D4: =каталог!F12 -> 469 | E4: =каталог!G12 -> 0 | F4: =E4*D4 -> 0
A5: 4 | B5: =каталог!B13 -> Тарелка для фруктов "Листик" | C5: =каталог!C13 -> ИНП137 | D5: =каталог!F13 -> 689 | E5: =каталог!G13 -> 0 | F5: =E5*D5 -> 0
A6: 5 | B6: =каталог!B14 -> Фруктовница "Лодочка" №1 | C6: =каталог!C14 -> ИНП188/1 | D6: =каталог!F14 -> 656 | E6: =каталог!G14 -> 0 | F6: =E6*D6 -> 0
A7: 6 | B7: =каталог!B15 -> Фруктовница "Лодочка" №2 | C7: =каталог!C15 -> ИНП188/2 | D7: =каталог!F15 -> 768 | E7: =каталог!G15 -> 0 | F7: =E7*D7 -> 0
A8: 7 | B8: =каталог!B16 -> Конфетница "Наташа" | C8: =каталог!C16 -> ПХД37 | D8: =каталог!F16 -> 676 | E8: =каталог!G16 -> 0 | F8: =E8*D8 -> 0
A9: 8 | B9: =каталог!B17 -> Конфетница круглая с берестой и ажуром | C9: =каталог!C17 -> ИНП47 | D9: =каталог!F17 -> 668 | E9: =каталог!G17 -> 0 | F9: =E9*D9 -> 0
A10: 9 | B10: =каталог!B18 -> Конфетница овальная с берестой и ажуром | C10: =каталог!C18 -> ИНП189 | D10: =каталог!F18 -> 697 | E10: =каталог!G18 -> 0 | F10: =E10*D10 -> 0
A11: 10 | B11: =каталог!B19 -> Поднос прямоугольный плоский с ручками | C11: =каталог!C19 -> ИНП41 | D11: =каталог!F19 -> 1428 | E11: =каталог!G19 -> 0 | F11: =E11*D11 -> 0
A12: 11 | B12: =каталог!B20 -> Лоток квадратный с обшивом малый | C12: =каталог!C20 -> ИНП90 | D12: =каталог!F20 -> 761 | E12: =каталог!G20 -> 0 | F12: =E12*D12 -> 0
A13: 12 | B13: =каталог!B21 -> Лоток квадратный с обшивом №1 | C13: =каталог!C21 -> ИНП90/1 | D13: =каталог!F21 -> 911 | E13: =каталог!G21 -> 0 | F13: =E13*D13 -> 0
... A23: 22 | B23: =каталог!B31 -> Блюдо овальное №1 | C23: =каталог!C31 -> ИНП120/1 | D23: =каталог!F31 -> 950 | E23: =каталог!G31 -> 0 | F23: =E23*D23 -> 0
A24: 23 | B24: =каталог!B33 -> Блюдо овальное №2 | C24: =каталог!C33 -> ИНП120/2 | D24: =каталог!F33 -> 1186 | E24: =каталог!G33 -> 0 | F24: =E24*D24 -> 0
A25: 24 | B25: =каталог!B34 -> Хлебница овальная со съёмной крышкой | C25: =каталог!C34 -> ПХД109 | D25: =каталог!F34 -> 2649 | E25: =каталог!G34 -> 0 | F25: =E25*D25 -> 0
A26: 25 | B26: =каталог!B35 -> Хлебница "Колосок" | C26: =каталог!C35 -> НХП150 | D26: =каталог!F35 -> 1429 | E26: =каталог!G35 -> 0 | F26: =E26*D26 -> 0
A27: 26 | B27: =каталог!B36 -> Хлебница "Колосок" с салфеткой | C27: =каталог!C36 -> НХП150/с | D27: =каталог!F36 -> 1461 | E27: =каталог!G36 -> 0 | F27: =E27*D27 -> 0
A28: 27 | B28: =каталог!B37 -> Ёмкость хлебная "Колосок" | C28: =каталог!C37 -> НХП147 | D28: =каталог!F37 -> 1230 | E28: =каталог!G37 -> 0 | F28: =E28*D28 -> 0
A29: 28 | B29: =каталог!B38 -> Батонница | C29: =каталог!C38 -> НХП160 | D29: =каталог!F38 -> 1509 | E29: =каталог!G38 -> 0 | F29: =E29*D29 -> 0
A30: 29 | B30: =каталог!B39 -> Тарелка с крышкой "Яблоко" | C30: =каталог!C39 -> НХП108 | D30: =каталог!F39 -> 4576 | E30: =каталог!G39 -> 0 | F30: =E30*D30 -> 0
A31: 30 | B31: =каталог!B40 -> Шкатулка плетёная №1 | C31: =каталог!C40 -> ИНП11/1 | D31: =каталог!F40 -> 1243 | E31: =каталог!G40 -> 0 | F31: =E31*D31 -> 0
A32: 31 | B32: =каталог!B41 -> Шкатулка плетёная №2 | C32: =каталог!C41 -> ИНП11/2 | D32: =каталог!F41 -> 1740 | E32: =каталог!G41 -> 0 | F32: =E32*D32 -> 0
A33: 32 | B33: =каталог!B42 -> Шкатулка-туес цветная №3 | C33: =каталог!C42 -> ПХД121/цв/3 | D33: =каталог!F42 -> 1076 | E33: =каталог!G42 -> 0 | F33: =E33*D33 -> 0
A34: 33 | B34: =каталог!B43 -> Шкатулка-туес цветная №4 | C34: =каталог!C43 -> ПХД121/цв/4 | D34: =каталог!F43 -> 1434 | E34: =каталог!G43 -> 0 | F34: =E34*D34 -> 0
A35: 34 | B35: =каталог!B44 -> Шкатулка-туес цветная №5 | C35: =каталог!C44 -> ПХД121/цв/5 | D35: =каталог!F44 -> 1726 | E35: =каталог!G44 -> 0 | F35: =E35*D35 -> 0
... A70: 69 | B70: =каталог!B79 -> Лоток прямоугольный (лоток для специй на фанерном дне с разделением на 3 секции) | C70: =каталог!C79 -> ПХД30 | D70: =каталог!F79 -> 998 | E70: =каталог!G79 -> 0 | F70: =E70*D70 -> 0
E71: =SUM(E21:E70) -> 0 | F71: =SUM(F21:F70) -> 0

Sheet каталог
C1: Каталог "Для кухни"
C2: ( 83361) 4-75-33, e-mail:ivolga4@yandex.ru
C3: Кировская обл., г.Кирово-Чепецк, ул.Калинина, д.7
A4: Продукции предприятия ООО «Азимут» присвоен официальный статус изделий народных художественных промыслов России.
A5: Тарелки и подносы круглые, квадратные, прямоугольные на плетёном или твёрдом дне с декором. Индивидуальная упаковка в термопленку для розничных магазинов
A6: ПХД - изделия признанного художественного достоинства
A7: НХП - изделия народных художественных промыслов Кировской области
A8: ИНП - изделия народных промыслов
A9: фото | B9: наименование | C9: артикул | D9: описание | E9: размеры (длина*ширина /высота) | F9: цена опт | G9: кол-во | H9: сумма
B10: Бутербродница "Колосок" | C10: НХП148 | D10: дно фанерное с декором (выжигание), ивовый прут | E10: 260*200/50 | F10: 679 | H10: =G10*F10 -> 0
B11: Бутербродница с салфеткой | C11: НХП148/с | D11: дно фанерное, ивовый прут, текстильная салфетка | E11: 260*200/50 | F11: 694 | H11: =G11*F11 -> 0
B12: Бутербродница "Цветы" в упаковке | C12: НХП148/1 | D12: материал - ивовая лоза, фанерное дно 136*72 мм. с выжиганием. Упаковано в подарочную коробку крафт с прозрачной крышкой. Дополнено открыткой. | E12: 185*120/35 | F12: 469 | H12: =G12*F12 -> 0
B13: Тарелка для фруктов "Листик" | C13: ИНП137 | D13: ивовый прут и ивовая лента | E13: 420*180/30 | F13: 689 | H13: =G13*F13 -> 0
B14: Фруктовница "Лодочка" №1 | C14: ИНП188/1 | D14: дно плетёное, ивовый прут | E14: 440*160/60 | F14: 656 | H14: =G14*F14 -> 0
B15: Фруктовница "Лодочка" №2 | C15: ИНП188/2 | E15: 500*190/70 | F15: 768 | H15: =G15*F15 -> 0
B16: Конфетница "Наташа" | C16: ПХД37 | D16: материал - ивовая лоза и лента, фанерное дно 100х100 мм., коврик "паркет" | E16: 160*160/90 | F16: 676 | H16: =G16*F16 -> 0
B17: Конфетница круглая с берестой и ажуром | C17: ИНП47 | D17: дно фанерное с наклеенной натуральной берестой, стенки из ивовой лозы | E17: 180*180/75 | F17: 668 | H17: =G17*F17 -> 0
B18: Конфетница овальная с берестой и ажуром | C18: ИНП189 | D18: дно фанерное с наклеенной натуральной берестой, стенки из ивовой лозы | E18: 220*140/10 | F18: 697 | H18: =G18*F18 -> 0
B19: Поднос прямоугольный плоский с ручками | C19: ИНП41 | D19: ивовый прут и ивовая лента | E19: 470*240/20/70 | F19: 1428 | H19: =G19*F19 -> 0
B20: Лоток квадратный с обшивом малый | C20: ИНП90 | D20: ивовый прут, фанера 3 мм., текстильный съёмный чехол с кружевом | E20: 210*210/50 | F20: 761 | H20: =G20*F20 -> 0
B21: Лоток квадратный с обшивом №1 | C21: ИНП90/1 | E21: 250*250/60 | F21: 911 | H21: =G21*F21 -> 0
B22: Лоток квадратный с обшивом №2 | C22: ИНП90/2 | E22: 280*280/70 | F22: 1033 | H22: =G22*F22 -> 0
B23: Лоток (фанерное дно) с текстильной салфеткой "Листья" | C23: ИНП37/1 | D23: дно фанерное, стенки из ивовой лозы, текстильная салфетка | E23: 255*165/80 | F23: 533 | H23: =G23*F23 -> 0
B24: Лоток (фанерное дно) с текстильной салфеткой "Папоротник" | C24: ИНП37/2 | D24: дно фанерное, стенки из ивовой лозы, текстильная салфетка | E24: 255*165/80 | F24: 533 | H24: =G24*F24 -> 0
B25: Тарелка хлебная (фанерное дно) без обшива | C25: ИНП133 | D25: дно фанерное, стенки из ивовой лозы | E25: 260*140/50/90 | F25: 543 | H25: =G25*F25 -> 0
B26: Тарелка хлебная (фанерное дно) с текстильной салфеткой | C26: ИНП133/1 | D26: дно фанерное, стенки из ивовой лозы, текстильная салфетка с кружевом | E26: 260*140/50/90 | F26: 580 | H26: =G26*F26 -> 0
B27: Тарелка хлебная | C27: ПХД93 | D27: дно и стенки из тонированной ивовой ленты | E27: 250*190/40/70 | F27: 1314 | H27: =G27*F27 -> 0
B28: Набор чайный трёхпредметный "Компаньон" | C28: ПХД107 | D28: материал - ивовая лоза и береста, фанера 3 мм | E28: 260*180/70, 130*80/135, 130*80/135 | F28: 3055 | H28: =G28*F28 -> 0
B29: Подстаканник (лоза) | C29: ПХД73 | D29: материал - ивовая лоза и лента, дно фанерное | E29: 80*120/95/120 | F29: 893 | H29: =G29*F29 -> 0
B30: Подстаканник (лоза/береста) | C30: ПХД107/1 | D30: материал - ивовая лоза и береста, фанера 3 мм | E30: 80*120/95/120 | F30: 993 | H30: =G30*F30 -> 0
B31: Блюдо овальное №1 | C31: ИНП120/1 | D31: ивовый прут | E31: 360*230/25/70 | F31: 950 | H31: =G31*F31 -> 0
B32: Блюдо овальное №1 цветное | C32: ИНП120/1/цв | D32: дно и стенки из ивовой лозы с чередованием цвета (окрашено натуральными красителями) | E32: 360*230/25/70 | F32: 950 | H32: =G32*F32 -> 0
B33: Блюдо овальное №2 | C33: ИНП120/2 | D33: ивовый прут | E33: 400*250/30/60 | F33: 1186 | H33: =G33*F33 -> 0
B34: Хлебница овальная со съёмной крышкой | C34: ПХД109 | D34: дно и стенки из ивовой лозы | E34: 300*400/50/180 | F34: 2649 | H34: =G34*F34 -> 0
... B42: Шкатулка-туес цветная №3 | C42: ПХД121/цв/3 | D42: дно и крышка из берёзовой фанеры, стенки из ивовой лозы и ивового шпона | E42: 180*180/120/150 | F42: 1076 | H42: =G42*F42 -> 0
B43: Шкатулка-туес цветная №4 | C43: ПХД121/цв/4 | E43: 220*220/140/180 | F43: 1434 | H43: =G43*F43 -> 0
B44: Шкатулка-туес цветная №5 | C44: ПХД121/цв/5 | E44: 260*260/160/210 | F44: 1726 | H44: =G44*F44 -> 0
B45: Туес плетёный №2 | C45: ПХД75/2 | D45: дно фанерное, стенки и крышка из ивовой лозы и ленты | E45: 160*160/170 | F45: 1046 | H45: =G45*F45 -> 0
B46: Туес плетёный №3 | C46: ПХД75/3 | E46: 190*190/210 | F46: 1269 | H46: =G46*F46 -> 0
B47: Туес плетёный №4 | C47: ПХД75/4 | E47: 240*240/260 | F47: 1569 | H47: =G47*F47 -> 0
B48: Блюдо с ажурным краем №1 | C48: ИНП50/1 | D48: дно и стенки из ивовой лозы и ленты | E48: 260*260/50 | F48: 696 | H48: =G48*F48 -> 0
B49: Блюдо с ажурным краем №2 | C49: ИНП50/2 | E49: 300*300/50 | F49: 767 | H49: =G49*F49 -> 0
B50: Блюдо с ажурным краем №3 | C50: ИНП50/3 | E50: 370*370/60 | F50: 1096 | H50: =G50*F50 -> 0
B51: Тарелка 4-секционная с фанерными перегородками | C51: ИНП24 | D51: дно и перегородки фанерные, бортик из ивовой лозы | E51: 250*250/50 | F51: 377 | H51: =G51*F51 -> 0
B52: Тарелка 5-секционная с фанерными перегородками | C52: ИНП25 | D52: дно и перегородки фанерные, бортик из ивовой лозы | E52: 250*250/50 | F52: 384 | H52: =G52*F52 -> 0
B53: Тарелка 5-секционная | C53: ПХД32 | D53: дно фанерное, стенки и перегородки из ивовой лозы | E53: 235*235/50 | F53: 486 | H53: =G53*F53 -> 0
B54: Тарелка плетёная (круглая) №1 | C54: ПХД31/1 | D54: дно плетёное из лозы и ивовой ленты 130*130, высота борта 25 мм., глубина 15 мм. | E54: 175*145/40 | F54: 352 | H54: =G54*F54 -> 0
B55: Тарелка плетёная (круглая) №2 | C55: ПХД31/2 | D55: дно плетёное из лозы и ивовой ленты 230*230, высота борта 25 мм., глубина 15 мм. | E55: 295*260/25/70 | F55: 509 | H55: =G55*F55 -> 0
B56: Поднос круглый (плетёное дно из прута) №2 | C56: ИНП79 | D56: дно и стенки из ивовой лозы | E56: 350*350/50/100 | F56: 892 | H56: =G56*F56 -> 0
B57: Поднос круглый (плетёное дно из прута) №2 цветной | C57: ИНП79/цв | D57: дно и стенки из ивовой лозы с чередованием цвета (окрашено натуральными красителями) | E57: 350*350/50/100 | F57: 892 | H57: =G57*F57 -> 0
B58: Тарелка для хлеба овальная №1 | C58: ИНП35/1 | D58: дно и стенки из ивовой лозы и ленты | E58: 220*140/40 | F58: 547 | H58: =G58*F58 -> 0
B59: Тарелка для хлеба овальная №1 цветная | C59: ИНП35/1/цв | D59: дно и стенки из ивовой лозы и ленты с чередованием цвета (окрашено натуральными красителями) | E59: 220*140/40 | F59: 547 | H59: =G59*F59 -> 0
B60: Тарелка для хлеба овальная №2 | C60: ИНП35/2 | D60: дно и стенки из ивовой лозы и ленты | E60: 260*180/60 | F60: 648 | H60: =G60*F60 -> 0
B61: Тарелка для хлеба овальная с ажуром | C61: ИНП183 | D61: дно и стенки из ивовой лозы и ленты | E61: 220*140/40 | F61: 594 | H61: =G61*F61 -> 0
B62: Тарелка фруктовая с ажуром №1 | C62: ПХД103/1 | D62: дно и стенки из ивовой лозы и ленты | E62: 210*210/65 | F62: 689 | H62: =G62*F62 -> 0
... B79: Лоток прямоугольный (лоток для специй на фанерном дне с разделением на 3 секции) | C79: ПХД30 | D79: дно фанерное, стенки и перегородки из ивовой лозы | E79: 360*150/135 | F79: 998 | H79: =G79*F79 -> 0
F80: итого: | G80: =SUM(G28:G79) -> 0 | H80: =SUM(H28:H79) -> 0
